BEGIN:VCALENDAR
VERSION:2.0
PRODID:-//ARCHE! Web Journal ｜ 宮城・仙台のペット情報はアルシュ！ - ECPv6.9.0//NONSGML v1.0//EN
CALSCALE:GREGORIAN
METHOD:PUBLISH
X-WR-CALNAME:ARCHE! Web Journal ｜ 宮城・仙台のペット情報はアルシュ！
X-ORIGINAL-URL:https://arche.miyagi.jp
X-WR-CALDESC:ARCHE! Web Journal ｜ 宮城・仙台のペット情報はアルシュ！ のイベント
REFRESH-INTERVAL;VALUE=DURATION:PT1H
X-Robots-Tag:noindex
X-PUBLISHED-TTL:PT1H
BEGIN:VTIMEZONE
TZID:Asia/Tokyo
BEGIN:STANDARD
TZOFFSETFROM:+0900
TZOFFSETTO:+0900
TZNAME:JST
DTSTART:20250101T000000
END:STANDARD
END:VTIMEZONE
BEGIN:VEVENT
DTSTART;TZID=Asia/Tokyo:20250628T100000
DTEND;TZID=Asia/Tokyo:20250628T150000
DTSTAMP:20260423T071326
CREATED:20250617T003901Z
LAST-MODIFIED:20250619T100041Z
UID:29854-1751104800-1751122800@arche.miyagi.jp
SUMMARY:愛犬と家族の撮影会！IN 泉パークタウン
DESCRIPTION:家族みんなで撮影しよう📸 宮城を中心に東北で生まれた街や好きな街を活かした自由な結婚式をプロデュースしている「WeddingCrew」主催の「愛犬と家族の撮影会！IN 泉パークタウン」開催のおしらせです。 \n  \nweddingcrew_250628\n  \nWeddingCrew主催「愛犬と家族の撮影会！IN 泉パークタウン」 \n─ 1枠30分・参加費8\,800円（10〜15カット）・完全予約制 ─ \n  \n◎概要：完全予約制になります。ご予約は予約フォームからお願いいたします。1枠30分の交代制になりますので、愛犬の状況次第等によりカット数が変動する可能性がございます。予めご了承ください。お支払方法は当日に現金でのお支払いとなります。 \n  \n◎予約フォーム：https://reserva.be/estudio88（WeddingCrew） \n  \n◎DOGGY’S VILLAGE：大型倉庫リノベーションSTYLEのドッグカフェが2024年8月に完成致しました！ 店内は海外映画シーンを切り取った様な雰囲気で全テーブルごとコンセプトが違うので、来るたびに素敵なお写真も楽しめます。 \n  \n◎フォトグラファー 佐藤紀子：不定期で開催しているベビママヨガレッスンや、前職でたくさんのママさん、お子さんたちと接してきた経験を活かし、目線を合わせてコミュニケーションをとりながら楽しく撮影をするのが得意です。写真を通じて、お客様の思い出が一生モノになるお手伝いができれば、と願うばかりです。 \n 
URL:https://arche.miyagi.jp/event/250628/
LOCATION:DOGGY’S VILLAGE\, 〒981-3217 宮城県仙台市実沢石保19
CATEGORIES:すべてのイベント,宮城のペットイベント,撮影会
ATTACH;FMTTYPE=image/png:https://arche.miyagi.jp/wp-content/uploads/2025/06/250628.png
ORGANIZER;CN="WeddingCrew":MAILTO:weddingcrew.t.m@gmail.com
END:VEVENT
END:VCALENDAR