BEGIN:VCALENDAR
VERSION:2.0
PRODID:-//ARCHE! Web Journal ｜ 宮城・仙台のペット情報はアルシュ！ - ECPv6.9.0//NONSGML v1.0//EN
CALSCALE:GREGORIAN
METHOD:PUBLISH
X-ORIGINAL-URL:https://arche.miyagi.jp
X-WR-CALDESC:ARCHE! Web Journal ｜ 宮城・仙台のペット情報はアルシュ！ のイベント
REFRESH-INTERVAL;VALUE=DURATION:PT1H
X-Robots-Tag:noindex
X-PUBLISHED-TTL:PT1H
BEGIN:VTIMEZONE
TZID:Asia/Tokyo
BEGIN:STANDARD
TZOFFSETFROM:+0900
TZOFFSETTO:+0900
TZNAME:JST
DTSTART:20250101T000000
END:STANDARD
END:VTIMEZONE
BEGIN:VEVENT
DTSTART;TZID=Asia/Tokyo:20251013T100000
DTEND;TZID=Asia/Tokyo:20251013T120000
DTSTAMP:20260422T191006
CREATED:20250926T221221Z
LAST-MODIFIED:20251012T163743Z
UID:32222-1760349600-1760356800@arche.miyagi.jp
SUMMARY:ARCHE!愛犬撮影会 in EARTHING LAND
DESCRIPTION:RCHE!愛犬撮影会、山形市「EARTHING　LAND（アーシングランド）で行います。山形市で新たなドッグランオープンです。\n人気の晴天畑さん@seitenbatake.official 　さんも来ますよ！\n撮影は関東カメラマン @maverick_photo2024 です📷 \n（日時）\n2025年10月13日（月・祝）\n10:00～12:00（イベントは15:00まで）\n（場所）\nEARTHING　LAND\n〒990*2385\n山形市下反田50-2\n（山形中央ICより車で約5分） \nARCHE! web journal ARCHE!11月20号に掲載させていただきます。
URL:https://arche.miyagi.jp/event/2025-9-27/
LOCATION:EARTHING LAND（アーシングランド）\, 〒990*2385 山形市大字下判田50番地２
CATEGORIES:すべてのイベント,アルシュの愛犬撮影会,山形のペットイベント,撮影会
ATTACH;FMTTYPE=image/jpeg:https://arche.miyagi.jp/wp-content/uploads/2025/09/web-i-7.jpg
END:VEVENT
END:VCALENDAR