BEGIN:VCALENDAR
VERSION:2.0
PRODID:-//ARCHE! Web Journal ｜ 宮城・仙台のペット情報はアルシュ！ - ECPv6.9.0//NONSGML v1.0//EN
CALSCALE:GREGORIAN
METHOD:PUBLISH
X-ORIGINAL-URL:https://arche.miyagi.jp
X-WR-CALDESC:ARCHE! Web Journal ｜ 宮城・仙台のペット情報はアルシュ！ のイベント
REFRESH-INTERVAL;VALUE=DURATION:PT1H
X-Robots-Tag:noindex
X-PUBLISHED-TTL:PT1H
BEGIN:VTIMEZONE
TZID:Asia/Tokyo
BEGIN:STANDARD
TZOFFSETFROM:+0900
TZOFFSETTO:+0900
TZNAME:JST
DTSTART:20250101T000000
END:STANDARD
END:VTIMEZONE
BEGIN:VEVENT
DTSTART;TZID=Asia/Tokyo:20251101T160000
DTEND;TZID=Asia/Tokyo:20251101T210000
DTSTAMP:20260422T171241
CREATED:20250922T230259Z
LAST-MODIFIED:20251029T130122Z
UID:32116-1762012800-1762030800@arche.miyagi.jp
SUMMARY:ペットフェス2025秋 in 宮城県松島離宮《前夜祭》
DESCRIPTION:2025年11月1日（土）16:00～21:00 \nペットフェス2025秋 in 宮城県松島離宮　前夜祭を開催します。 \n17:00～19:00はARCHE! night撮影会♪ カメラマンは那須川薫さんです。@photo_studio_swallow  \n松島離宮の素敵なライトアップをお楽しみください📷 \nそして、ロマンチックナイト・フォトコンテストも開催。詳しくはこちらのページをご覧ください。 \n  \n \n\n 
URL:https://arche.miyagi.jp/event/250923/
LOCATION:宮城県松島離宮\, 〒981-0213 宮城県宮城郡松島町松島浪打浜18
CATEGORIES:すべてのイベント,アルシュの愛犬撮影会,宮城のペットイベント,撮影会
ATTACH;FMTTYPE=image/jpeg:https://arche.miyagi.jp/wp-content/uploads/2025/09/web-i-3.jpg
END:VEVENT
BEGIN:VEVENT
DTSTART;TZID=Asia/Tokyo:20251109T100000
DTEND;TZID=Asia/Tokyo:20251109T120000
DTSTAMP:20260422T171241
CREATED:20250930T083230Z
LAST-MODIFIED:20250930T083230Z
UID:32282-1762682400-1762689600@arche.miyagi.jp
SUMMARY:ARCHE!愛犬撮影会 in Dog run Happiness (ドッグランハピネス)
DESCRIPTION:とても気持ちのいいドッグラン「Happiness 」さん。\nこちらも芋煮会＆撮影会です。\nわんちゃんが走っているところを見ながら、芋煮を楽しみましょうね！
URL:https://arche.miyagi.jp/event/2025-10-1-2/
LOCATION:Dog run Happiness（ドッグランハピネス）\, 〒9890921 宮城県刈田郡蔵王町円田土浮山2−３３
CATEGORIES:すべてのイベント,宮城のペットイベント,撮影会
ATTACH;FMTTYPE=image/jpeg:https://arche.miyagi.jp/wp-content/uploads/2025/09/web-i-10.jpg
END:VEVENT
BEGIN:VEVENT
DTSTART;TZID=Asia/Tokyo:20251122T100000
DTEND;TZID=Asia/Tokyo:20251123T163000
DTSTAMP:20260422T171241
CREATED:20251004T004418Z
LAST-MODIFIED:20251113T122343Z
UID:32364-1763805600-1763915400@arche.miyagi.jp
SUMMARY:ガモリンピック SENDAI 2025 秋祭
DESCRIPTION:ガモウパーク×ARCHE!\n～ガモウパークで走ろう、学ぼう、楽しもう～\n6月のガモリンピックに引き続き11月22日（土）23日（日）に開催します。\n→競技内容はこちら\n→出店社さんはこちら \n \n \n  \nー愛犬と楽しい時間を過ごしながら絆を深められる特別な日になりますようにー \n「ガモリンピック」は会場となるガモウパークの広いドッグランを活かした愛犬参加型のイベ\nントです。メインは飼い主の「おいで」や「まて」の声に従うことが重要なポイントになる犬\nの大運動会。競技に参加しながら大好きな飼い主の笑顔をみて、犬たちもきっと楽しい時間を\n共有することができるでしょう。 \nまたこうした遊びを取り入れながらスキンシップを図ることで、飼い主の声に反応できるよう\nになることは、犬を飼っているご家庭での防災にもつながると考えております。 \n「ガモリンピックSENDAI 2025 秋祭」では愛犬と飼い主の絆を深めつつ、安心・安全な暮ら\nしができるように、たくさんのことが学べるイベントを目指します。 \n  \n\n \n 
URL:https://arche.miyagi.jp/event/251004/
LOCATION:ガモウパーク\, 〒983-0003 宮城県仙台市宮城野区岡田字新浜浦通東19-6
CATEGORIES:すべてのイベント,アルシュの愛犬撮影会,宮城のペットイベント,撮影会
ATTACH;FMTTYPE=image/jpeg:https://arche.miyagi.jp/wp-content/uploads/2025/10/web-i-2.jpg
END:VEVENT
END:VCALENDAR