BEGIN:VCALENDAR
VERSION:2.0
PRODID:-//ARCHE! Web Journal ｜ 宮城・仙台のペット情報はアルシュ！ - ECPv6.9.0//NONSGML v1.0//EN
CALSCALE:GREGORIAN
METHOD:PUBLISH
X-WR-CALNAME:ARCHE! Web Journal ｜ 宮城・仙台のペット情報はアルシュ！
X-ORIGINAL-URL:https://arche.miyagi.jp
X-WR-CALDESC:ARCHE! Web Journal ｜ 宮城・仙台のペット情報はアルシュ！ のイベント
REFRESH-INTERVAL;VALUE=DURATION:PT1H
X-Robots-Tag:noindex
X-PUBLISHED-TTL:PT1H
BEGIN:VTIMEZONE
TZID:Asia/Tokyo
BEGIN:STANDARD
TZOFFSETFROM:+0900
TZOFFSETTO:+0900
TZNAME:JST
DTSTART:20260101T000000
END:STANDARD
END:VTIMEZONE
BEGIN:VEVENT
DTSTART;TZID=Asia/Tokyo:20260502T100000
DTEND;TZID=Asia/Tokyo:20260503T160000
DTSTAMP:20260422T105447
CREATED:20260416T051748Z
LAST-MODIFIED:20260416T052950Z
UID:36520-1777716000-1777824000@arche.miyagi.jp
SUMMARY:ARCHE! presents Fun Dog Festa 仙台 in スマイルグリコパーク
DESCRIPTION:■主　　催　ペットマガジンARCHE!\n■開催日時　2026 年5 月2 日（土）～ 3 日（日祝）10：00 ～ 16：00　※少雨決行\n■開催内容　マルシェ キッチンカー、ドッググッズ、アパレル、フードなど \n愛犬撮影会（無料・6/20 号掲載）\n5月2日（土）10:15~11:15（20組）メリーゴーランドに乗っての撮影\n                  13:15~14:15（20組）球場を背景にして撮影\n14:45~15:45（20組）お立ち台にてキャラクターぬいぐるみと一緒に撮影\n5月3日（日）10:15~11:15（20組）メリーゴーランドを背景に撮影\n12:30~13:30（20組）球場を背景にして撮影\n14:45~15:45（20組）メリーゴーランドにて撮影\n（撮影場所が変更になる場合がございます） \nステージ\n5月2日（土）\n11:30 〜那須川薫カメラマンの「スマホで撮る愛犬撮影のワンポイント講座」\n11:45 〜わんこもうっとり音楽会 ぷるぱぴの（フルート：板垣颯綺 ピアノ：菊池みほ）\n12:05〜ドッグパフォーマンスコンテスト\n5月3日（日）\n11:30 〜のの香先生「勝つためのガモリンピック講座」\n５月23日（土）24日（日）ガモウパークさんで開催の「ガモリンピック」の競技の説明をします！\n13:45 〜ARCHE!連載でお馴染みの、西原先生の「わんこの健康勉強会」 \n両日とも15:50ぐらいから、みんなで集合写真も撮らさせていただきますので、最後までお楽しみください！ \nドッグラン（無料） \n■開催場所　スマイルグリコパーク（楽天球場内）\n仙台市宮城野区宮城野2 丁目11-6\n■入場料　一般（高校生以上）700 円、小人（4 才～中学生）500 円\n※1 日券\, 場内出入自由　ペット無料 \nみなさん、ゴールデンウィークの2日間、飲んだり、食べたり、撮影したり、ステージイベントに参加したり、愛犬と一緒に楽しんでくださいね🐕　ARCHE!一同、みなさんとゆっくりお話しいたいですね！\nお待ちしています！ \n \n#わんちゃんイベント\n#グリコスマイルパーク\n#Fun Dog Festa\n#楽天球場\n#アルシュ撮影会\n#ペットマガジンアルシュ
URL:https://arche.miyagi.jp/event/2026-4-16/
LOCATION:楽天モバイル 最強パーク宮城\, 〒983-0045 宮城県仙台市宮城野区宮城野２丁目１１−６
CATEGORIES:すべてのイベント,アルシュの愛犬撮影会,宮城のペットイベント,撮影会,演奏会
ATTACH;FMTTYPE=image/jpeg:https://arche.miyagi.jp/wp-content/uploads/2026/04/web-i-3.jpg
END:VEVENT
BEGIN:VEVENT
DTSTART;TZID=Asia/Tokyo:20260506T170000
DTEND;TZID=Asia/Tokyo:20260506T200000
DTSTAMP:20260422T105447
CREATED:20260225T235524Z
LAST-MODIFIED:20260225T235524Z
UID:35543-1778086800-1778097600@arche.miyagi.jp
SUMMARY:ぬくもりのとなりに音楽を Vol.3
DESCRIPTION:高橋亨明 組数限定ワンコ連れ生音ライブ「ぬくもりのとなりに音楽をVol.3」 \n5月6日（水・祝）、仙台SORACAFEにて開催！ \n  \n開場 17:00　／　開演 17:30 \n撮影 19:00 \n解散 20:00 \n  \n参加費 1人3\,000円（わんちゃん・中学生以下無料） \nご予約 https://forms.gle/kTtsurVLSsytEkzF6 \n  \n★無料撮影会あり \n★ワンちゃんがびっくりしないようマイクなど使わない生音ライブです \n★別途1人1オーダー以上お願いいたします。 \n★建物および近隣にコインパーキング有 \n（ワンちゃん用の食事等はございませんのでお持ち込みください♪） \n 
URL:https://arche.miyagi.jp/event/260506/
LOCATION:SORA CAFE\, 〒984-0065 宮城県仙台市若林区土樋８ パルメゾン土樋マンション 103
CATEGORIES:すべてのイベント,宮城のペットイベント,撮影会,演奏会
ATTACH;FMTTYPE=image/png:https://arche.miyagi.jp/wp-content/uploads/2026/02/20260506i.png
END:VEVENT
END:VCALENDAR