BEGIN:VCALENDAR
VERSION:2.0
PRODID:-//ARCHE! Web Journal ｜ 宮城・仙台のペット情報はアルシュ！ - ECPv6.9.0//NONSGML v1.0//EN
CALSCALE:GREGORIAN
METHOD:PUBLISH
X-WR-CALNAME:ARCHE! Web Journal ｜ 宮城・仙台のペット情報はアルシュ！
X-ORIGINAL-URL:https://arche.miyagi.jp
X-WR-CALDESC:ARCHE! Web Journal ｜ 宮城・仙台のペット情報はアルシュ！ のイベント
REFRESH-INTERVAL;VALUE=DURATION:PT1H
X-Robots-Tag:noindex
X-PUBLISHED-TTL:PT1H
BEGIN:VTIMEZONE
TZID:Asia/Tokyo
BEGIN:STANDARD
TZOFFSETFROM:+0900
TZOFFSETTO:+0900
TZNAME:JST
DTSTART:20250101T000000
END:STANDARD
END:VTIMEZONE
BEGIN:VEVENT
DTSTART;TZID=Asia/Tokyo:20251213T110000
DTEND;TZID=Asia/Tokyo:20251213T123000
DTSTAMP:20260422T190020
CREATED:20251027T095502Z
LAST-MODIFIED:20251027T095502Z
UID:33014-1765623600-1765629000@arche.miyagi.jp
SUMMARY:愛犬とつくるクリスマスコンサート
DESCRIPTION:愛犬とのクリスマスコンサート、楽しみですね♬
URL:https://arche.miyagi.jp/event/2025-10-27/
LOCATION:複合型ドッグパーク Bowmu（バウム）\, 〒980-0005 宮城県仙台市青葉区梅田町１−５９
CATEGORIES:すべてのイベント,宮城のペットイベント
ATTACH;FMTTYPE=image/jpeg:https://arche.miyagi.jp/wp-content/uploads/2025/10/web-i-8.jpg
END:VEVENT
END:VCALENDAR