BEGIN:VCALENDAR
VERSION:2.0
PRODID:-//ARCHE! Web Journal ｜ 宮城・仙台のペット情報はアルシュ！ - ECPv6.9.0//NONSGML v1.0//EN
CALSCALE:GREGORIAN
METHOD:PUBLISH
X-WR-CALNAME:ARCHE! Web Journal ｜ 宮城・仙台のペット情報はアルシュ！
X-ORIGINAL-URL:https://arche.miyagi.jp
X-WR-CALDESC:ARCHE! Web Journal ｜ 宮城・仙台のペット情報はアルシュ！ のイベント
REFRESH-INTERVAL;VALUE=DURATION:PT1H
X-Robots-Tag:noindex
X-PUBLISHED-TTL:PT1H
BEGIN:VTIMEZONE
TZID:Asia/Tokyo
BEGIN:STANDARD
TZOFFSETFROM:+0900
TZOFFSETTO:+0900
TZNAME:JST
DTSTART:20250101T000000
END:STANDARD
END:VTIMEZONE
BEGIN:VEVENT
DTSTART;TZID=Asia/Tokyo:20250920T170000
DTEND;TZID=Asia/Tokyo:20250920T190000
DTSTAMP:20260423T071416
CREATED:20250718T145217Z
LAST-MODIFIED:20250918T001105Z
UID:30705-1758387600-1758394800@arche.miyagi.jp
SUMMARY:ARCHE!撮影会 in ドッグラン＆カフェ さんぽ
DESCRIPTION:この日は（9月20日・土）さんぽさんから花火が見えるそうです🎆\n花火を背景に撮影できるといいですね📷
URL:https://arche.miyagi.jp/event/202-9-18/
LOCATION:Dogrun & Cafe さんぽ\, 〒981-1251 宮城県名取市愛島台5-101-39
CATEGORIES:すべてのイベント,アルシュの愛犬撮影会,宮城のペットイベント
ATTACH;FMTTYPE=image/jpeg:https://arche.miyagi.jp/wp-content/uploads/2025/07/web-i-6.jpg
END:VEVENT
END:VCALENDAR