BEGIN:VCALENDAR
VERSION:2.0
PRODID:-//ARCHE! Web Journal ｜ 宮城・仙台のペット情報はアルシュ！ - ECPv6.9.0//NONSGML v1.0//EN
CALSCALE:GREGORIAN
METHOD:PUBLISH
X-WR-CALNAME:ARCHE! Web Journal ｜ 宮城・仙台のペット情報はアルシュ！
X-ORIGINAL-URL:https://arche.miyagi.jp
X-WR-CALDESC:ARCHE! Web Journal ｜ 宮城・仙台のペット情報はアルシュ！ のイベント
REFRESH-INTERVAL;VALUE=DURATION:PT1H
X-Robots-Tag:noindex
X-PUBLISHED-TTL:PT1H
BEGIN:VTIMEZONE
TZID:Asia/Tokyo
BEGIN:STANDARD
TZOFFSETFROM:+0900
TZOFFSETTO:+0900
TZNAME:JST
DTSTART:20250101T000000
END:STANDARD
END:VTIMEZONE
BEGIN:VEVENT
DTSTART;TZID=Asia/Tokyo:20251220T100000
DTEND;TZID=Asia/Tokyo:20251220T160000
DTSTAMP:20260422T103555
CREATED:20251121T075139Z
LAST-MODIFIED:20251125T144921Z
UID:33768-1766224800-1766246400@arche.miyagi.jp
SUMMARY:MARCHE' DE ECOTTO - ペットと楽しむクリスマス -
DESCRIPTION:MARCHE’ DE ECOTTO（マルシェ・ド・エコット）- ペットと楽しむクリスマス – \nイベントに関する詳しい情報は イベント特設ページ をご覧ください🐾 \n 
URL:https://arche.miyagi.jp/event/251220/
LOCATION:ECOTTO（エコット）\, 〒989-0731 宮城県白石市福岡深谷鍋倉山７６−２
CATEGORIES:すべてのイベント,アルシュの愛犬撮影会,不要ペット用品回収・配布,即売会,宮城のペットイベント,撮影会,講習会・セミナー
ATTACH;FMTTYPE=image/jpeg:https://arche.miyagi.jp/wp-content/uploads/2025/11/1-1.jpg
END:VEVENT
BEGIN:VEVENT
DTSTART;TZID=Asia/Tokyo:20251025T100000
DTEND;TZID=Asia/Tokyo:20251025T120000
DTSTAMP:20260422T103555
CREATED:20250930T072454Z
LAST-MODIFIED:20251020T064529Z
UID:32267-1761386400-1761393600@arche.miyagi.jp
SUMMARY:ARCHE!愛犬撮影会 in エコット
DESCRIPTION:2025年10月オープンのドッグラン＆カフェでARCHE!撮影会を行います。\n芋煮＆おむすび＆ビール（ノンアルコールもあり）で飲んで食べてワイワイしましょう！\nARCHE! web journal　ARCHE!11月20日号に掲載いたします。 \n\n \n \n \n \n 
URL:https://arche.miyagi.jp/event/2025-10-1-3/
LOCATION:ECOTTO（エコット）\, 〒989-0731 宮城県白石市福岡深谷鍋倉山７６−２
CATEGORIES:すべてのイベント,アルシュの愛犬撮影会,宮城のペットイベント
ATTACH;FMTTYPE=image/jpeg:https://arche.miyagi.jp/wp-content/uploads/2025/09/web-i-8.jpg
END:VEVENT
END:VCALENDAR