BEGIN:VCALENDAR
VERSION:2.0
PRODID:-//ARCHE! Web Journal ｜ 宮城・仙台のペット情報はアルシュ！ - ECPv6.9.0//NONSGML v1.0//EN
CALSCALE:GREGORIAN
METHOD:PUBLISH
X-WR-CALNAME:ARCHE! Web Journal ｜ 宮城・仙台のペット情報はアルシュ！
X-ORIGINAL-URL:https://arche.miyagi.jp
X-WR-CALDESC:ARCHE! Web Journal ｜ 宮城・仙台のペット情報はアルシュ！ のイベント
REFRESH-INTERVAL;VALUE=DURATION:PT1H
X-Robots-Tag:noindex
X-PUBLISHED-TTL:PT1H
BEGIN:VTIMEZONE
TZID:Asia/Tokyo
BEGIN:STANDARD
TZOFFSETFROM:+0900
TZOFFSETTO:+0900
TZNAME:JST
DTSTART:20250101T000000
END:STANDARD
END:VTIMEZONE
BEGIN:VEVENT
DTSTART;TZID=Asia/Tokyo:20251123T103000
DTEND;TZID=Asia/Tokyo:20251123T123000
DTSTAMP:20260422T123059
CREATED:20251024T095157Z
LAST-MODIFIED:20251024T100938Z
UID:32913-1763893800-1763901000@arche.miyagi.jp
SUMMARY:ミヤギサクラ犬舎 フレンチブルドッグオフ会 in Dog Village台ヶ森
DESCRIPTION:ミヤギサクラ宮城犬舎出身、フレンチブルドッグちゃんのオフ会です。\n交流楽しんでくださいね！ \n \n \n \n \n 
URL:https://arche.miyagi.jp/event/2025-10-24/
LOCATION:DogVillage台ヶ森\, 宮城県黒川郡大和町吉田台ヶ森13\, 9813625
CATEGORIES:すべてのイベント,宮城のペットイベント
ATTACH;FMTTYPE=image/jpeg:https://arche.miyagi.jp/wp-content/uploads/2025/10/web-i-6.jpg
END:VEVENT
END:VCALENDAR