BEGIN:VCALENDAR
VERSION:2.0
PRODID:-//ARCHE! Web Journal ｜ 宮城・仙台のペット情報はアルシュ！ - ECPv6.9.0//NONSGML v1.0//EN
CALSCALE:GREGORIAN
METHOD:PUBLISH
X-WR-CALNAME:ARCHE! Web Journal ｜ 宮城・仙台のペット情報はアルシュ！
X-ORIGINAL-URL:https://arche.miyagi.jp
X-WR-CALDESC:ARCHE! Web Journal ｜ 宮城・仙台のペット情報はアルシュ！ のイベント
REFRESH-INTERVAL;VALUE=DURATION:PT1H
X-Robots-Tag:noindex
X-PUBLISHED-TTL:PT1H
BEGIN:VTIMEZONE
TZID:Asia/Tokyo
BEGIN:STANDARD
TZOFFSETFROM:+0900
TZOFFSETTO:+0900
TZNAME:JST
DTSTART:20260101T000000
END:STANDARD
END:VTIMEZONE
BEGIN:VEVENT
DTSTART;TZID=Asia/Tokyo:20260606T110000
DTEND;TZID=Asia/Tokyo:20260606T143000
DTSTAMP:20260422T062207
CREATED:20260416T010053Z
LAST-MODIFIED:20260416T032732Z
UID:36487-1780743600-1780756200@arche.miyagi.jp
SUMMARY:東北MIXワンコくらぶ　第5回オフ会
DESCRIPTION:『東北MIXワンコくらぶ』は、常日頃、集いがとても少なく、集まる場所もなかなかないMIXワンコさんのため。そして、「東北のMIXワンコさんとつながりたい」「つなげていきたい」という飼い主様の想いから、2023年の９月１日、宮城在住のメンバーにより発足しました。 おかげさまで会員様が増え、青森から福島にわたり184ワンコさんとつながっています。 年に2回、春と秋に開催しているオフ会も、第5回を開催することとなりました。1回目から4回目までの経験を活かし、ますます多くのMIXワンコさんたちと集いたいと思っております。 \n \n  \n★参加お申込は4月18日(土)20時〜 @tohoku.mixのインスタで受付を開始します★ 『東北MIXワンコくらぶ』は会員募集中です。東北にお住まいのMIXワンコさん、ぜひ！おともだちになりませんか！お知り合いの方にもお誘いいただけますと幸いです。 ★@tohoku.mixのインスタをチェックしてくださいね★ \n \n詳細 開始: 6月6日@ 11:00 終了: 6月6日@ 14:30 主催者 東北MIXワンコくらぶ \n 
URL:https://arche.miyagi.jp/event/%e6%9d%b1%e5%8c%97mix%e3%83%af%e3%83%b3%e3%82%b3%e3%81%8f%e3%82%89%e3%81%b6%e3%80%80%e7%ac%ac5%e5%9b%9e%e3%82%aa%e3%83%95%e4%bc%9a/
LOCATION:ガモウパーク\, 〒983-0003 宮城県仙台市宮城野区岡田字新浜浦通東19-6
CATEGORIES:すべてのイベント,宮城のペットイベント
ATTACH;FMTTYPE=image/jpeg:https://arche.miyagi.jp/wp-content/uploads/2026/04/タイトル2.jpg
END:VEVENT
END:VCALENDAR