BEGIN:VCALENDAR
VERSION:2.0
PRODID:-//ARCHE! Web Journal ｜ 宮城・仙台のペット情報はアルシュ！ - ECPv6.9.0//NONSGML v1.0//EN
CALSCALE:GREGORIAN
METHOD:PUBLISH
X-WR-CALNAME:ARCHE! Web Journal ｜ 宮城・仙台のペット情報はアルシュ！
X-ORIGINAL-URL:https://arche.miyagi.jp
X-WR-CALDESC:ARCHE! Web Journal ｜ 宮城・仙台のペット情報はアルシュ！ のイベント
REFRESH-INTERVAL;VALUE=DURATION:PT1H
X-Robots-Tag:noindex
X-PUBLISHED-TTL:PT1H
BEGIN:VTIMEZONE
TZID:Asia/Tokyo
BEGIN:STANDARD
TZOFFSETFROM:+0900
TZOFFSETTO:+0900
TZNAME:JST
DTSTART:20260101T000000
END:STANDARD
END:VTIMEZONE
BEGIN:VEVENT
DTSTART;TZID=Asia/Tokyo:20260228T110000
DTEND;TZID=Asia/Tokyo:20260228T130000
DTSTAMP:20260422T083104
CREATED:20260218T234718Z
LAST-MODIFIED:20260218T234718Z
UID:35475-1772276400-1772283600@arche.miyagi.jp
SUMMARY:ARCHE! 愛犬撮影会 in Garden Kitchen 海と風
DESCRIPTION:今年２回目のARCHE!撮影会は「Garden Kitchen 海と風」さんで行います。\n日時　2026年2月28日（土）\n11:00~13:00\n場所 〒984-0033 宮城県仙台市若林区荒浜北丁１
URL:https://arche.miyagi.jp/event/2026-2-16/
LOCATION:Garden Kitchen 海と風\, 〒984-0033 宮城県仙台市若林区荒浜北丁１
CATEGORIES:すべてのイベント,アルシュの愛犬撮影会,宮城のペットイベント
ATTACH;FMTTYPE=image/jpeg:https://arche.miyagi.jp/wp-content/uploads/2026/02/web-i-1.jpg
END:VEVENT
END:VCALENDAR