BEGIN:VCALENDAR
VERSION:2.0
PRODID:-//ARCHE! Web Journal ｜ 宮城・仙台のペット情報はアルシュ！ - ECPv6.9.0//NONSGML v1.0//EN
CALSCALE:GREGORIAN
METHOD:PUBLISH
X-WR-CALNAME:ARCHE! Web Journal ｜ 宮城・仙台のペット情報はアルシュ！
X-ORIGINAL-URL:https://arche.miyagi.jp
X-WR-CALDESC:ARCHE! Web Journal ｜ 宮城・仙台のペット情報はアルシュ！ のイベント
REFRESH-INTERVAL;VALUE=DURATION:PT1H
X-Robots-Tag:noindex
X-PUBLISHED-TTL:PT1H
BEGIN:VTIMEZONE
TZID:Asia/Tokyo
BEGIN:STANDARD
TZOFFSETFROM:+0900
TZOFFSETTO:+0900
TZNAME:JST
DTSTART:20250101T000000
END:STANDARD
END:VTIMEZONE
BEGIN:VEVENT
DTSTART;TZID=Asia/Tokyo:20251116T080000
DTEND;TZID=Asia/Tokyo:20251116T093000
DTSTAMP:20260422T101359
CREATED:20251002T070727Z
LAST-MODIFIED:20251027T233749Z
UID:32332-1763280000-1763285400@arche.miyagi.jp
SUMMARY:《完全予約制》ARCHE!愛犬撮影会 in 登米神社
DESCRIPTION:登米神社さんで撮影会を行ないます🐕今回は ”完全予約制” となります。何卒ご了承ください🐈 \n  \n日時　　：11月16日（日）8:00～9:30　※時間変更いたしました（2025.10.18記） \n  \n場所　　：登米神社　〒987-0702 宮城県登米市登米町寺池道場１５ \n  \nお知らせ：今回の撮影会では、撮影したペットちゃん達のお写真を、ポスターまたはカレンダー（※有料）にいたします。また、いつものようにアルシュのウェブ・本誌に掲載いたします。 \n  \n撮影会のご予約：お問い合わせフォームからお受け付けいたします。（「登米神社撮影」と入力してください） \n  \n予約締切：10月30日（木） \n  \n抽選日　：10月31日（金）午前 \n  \n当選発表：10月31日（金）夜9時までに、当選された方にご連絡いたします \n＊アルシュからのメール（info@arche.miyagi.jp）を受信できるよう、設定のご確認をお願いいたします🙇‍♀️ \n 
URL:https://arche.miyagi.jp/event/251002/
LOCATION:登米神社\, 〒987-0702 宮城県登米市登米町寺池道場１５
CATEGORIES:すべてのイベント,アルシュの愛犬撮影会,宮城のペットイベント
ATTACH;FMTTYPE=image/jpeg:https://arche.miyagi.jp/wp-content/uploads/2025/10/web-i-1.jpg
END:VEVENT
END:VCALENDAR