BEGIN:VCALENDAR
VERSION:2.0
PRODID:-//ARCHE! Web Journal ｜ 宮城・仙台のペット情報はアルシュ！ - ECPv6.9.0//NONSGML v1.0//EN
CALSCALE:GREGORIAN
METHOD:PUBLISH
X-WR-CALNAME:ARCHE! Web Journal ｜ 宮城・仙台のペット情報はアルシュ！
X-ORIGINAL-URL:https://arche.miyagi.jp
X-WR-CALDESC:ARCHE! Web Journal ｜ 宮城・仙台のペット情報はアルシュ！ のイベント
REFRESH-INTERVAL;VALUE=DURATION:PT1H
X-Robots-Tag:noindex
X-PUBLISHED-TTL:PT1H
BEGIN:VTIMEZONE
TZID:Asia/Tokyo
BEGIN:STANDARD
TZOFFSETFROM:+0900
TZOFFSETTO:+0900
TZNAME:JST
DTSTART:20260101T000000
END:STANDARD
END:VTIMEZONE
BEGIN:VEVENT
DTSTART;TZID=Asia/Tokyo:20260426T100000
DTEND;TZID=Asia/Tokyo:20260426T150000
DTSTAMP:20260426T020509
CREATED:20260401T054033Z
LAST-MODIFIED:20260401T054033Z
UID:36219-1777197600-1777215600@arche.miyagi.jp
SUMMARY:仙台わん子マルシェ in アクアイグニス仙台
DESCRIPTION:仙台わん子マルシ2026春\n4月26日（日）10時〜15時\n会場：アクアイグニス仙台 様\nお買い物を楽しみながら 芝生をお散歩したり 無料フォトブースで撮影したり ゆっくりと楽しんでください♪ ペットイベント初の会場です マナーウェア着用か、カートや 抱っこで遊びに来てください
URL:https://arche.miyagi.jp/event/2026-4-1/
LOCATION:アクアイグニス仙台\, 〒984-0843 宮城県仙台市若林区藤塚松の西３３−３
CATEGORIES:すべてのイベント,宮城のペットイベント
ATTACH;FMTTYPE=image/jpeg:https://arche.miyagi.jp/wp-content/uploads/2026/04/insta.jpg
END:VEVENT
BEGIN:VEVENT
DTSTART;TZID=Asia/Tokyo:20260426T100000
DTEND;TZID=Asia/Tokyo:20260426T160000
DTSTAMP:20260426T020509
CREATED:20260120T130422Z
LAST-MODIFIED:20260120T133445Z
UID:35063-1777197600-1777219200@arche.miyagi.jp
SUMMARY:MICHINOKU WAN FUN RUN 2026
DESCRIPTION:昨年に引き続き、ドッグマラソン『みちのくWAN FUN RUN』を開催します。\n競技性よりも「楽しむこと」を大切にし、初心者やファミリーも安心して参加できる内容です。\n走る楽しさや達成感をワンちゃんと共に体験してみてはいかがですか？\n同時開催『みちのく杜のドッグフェスティバル2026』もお楽しみください。\n \nみちのくWAN FUN RUN 2026のエントリーは1月26日(月)から受付開始予定です！奮ってご参加ください！ \n \n 
URL:https://arche.miyagi.jp/event/michinoku-wan-fun-run-2026/
LOCATION:国営みちのく杜の湖畔公園\, 〒989-1505宮城県柴田郡川崎町大字小野字二本松53-9
CATEGORIES:すべてのイベント,宮城のペットイベント
ATTACH;FMTTYPE=image/jpeg:https://arche.miyagi.jp/wp-content/uploads/2026/01/★表紙.jpg
END:VEVENT
END:VCALENDAR